BEGIN:VCALENDAR
VERSION:2.0
PRODID:-//Plone.org//NONSGML plone.app.event//EN
X-WR-TIMEZONE:Europe/Madrid
BEGIN:VEVENT
SUMMARY:SEMINAR+WEBINAR ANNOUNCEMENT
DTSTART;TZID=Europe/Madrid:20221027T130000
DTEND;TZID=Europe/Madrid:20221027T140000
DTSTAMP:20260420T083000Z
UID:64ddc8e363fb4a0fb7e442d589a565cf@fisica.upc.edu
CONTACT:https://meet.google.com/whq-mkve-aja
CREATED:20221024T141515Z
DESCRIPTION:“Heating a quantum dipolar\n\nfluid into a solid”
LAST-MODIFIED:20221024T141521Z
LOCATION:UPC campus nord\, B4-212 (aula seminari)
URL:https://dfen.upc.edu/ca/esdeveniments/seminar-webinar-announcement-5
END:VEVENT
BEGIN:VTIMEZONE
TZID:Europe/Madrid
X-LIC-LOCATION:Europe/Madrid
BEGIN:DAYLIGHT
DTSTART:20220327T030000
TZNAME:CEST
TZOFFSETFROM:+0100
TZOFFSETTO:+0200
END:DAYLIGHT
END:VTIMEZONE
END:VCALENDAR
